BEGIN:VCALENDAR
VERSION:2.0
PRODID:-//Cable Beach Primary - ECPv6.15.14//NONSGML v1.0//EN
CALSCALE:GREGORIAN
METHOD:PUBLISH
X-ORIGINAL-URL:https://cablebeachps.wa.edu.au
X-WR-CALDESC:Events for Cable Beach Primary
REFRESH-INTERVAL;VALUE=DURATION:PT1H
X-Robots-Tag:noindex
X-PUBLISHED-TTL:PT1H
BEGIN:VTIMEZONE
TZID:Australia/Perth
BEGIN:STANDARD
TZOFFSETFROM:+0800
TZOFFSETTO:+0800
TZNAME:AWST
DTSTART:20240101T000000
END:STANDARD
END:VTIMEZONE
BEGIN:VEVENT
DTSTART;VALUE=DATE:20250603
DTEND;VALUE=DATE:20250605
DTSTAMP:20260421T173733
CREATED:20250319T053830Z
LAST-MODIFIED:20250319T053830Z
UID:3721-1748908800-1749081599@cablebeachps.wa.edu.au
SUMMARY:Fotoworks
DESCRIPTION:
URL:https://cablebeachps.wa.edu.au/calendar/fotoworks/
CATEGORIES:School Events
END:VEVENT
END:VCALENDAR