BEGIN:VCALENDAR
VERSION:2.0
PRODID:-//Cable Beach Primary - ECPv6.15.14//NONSGML v1.0//EN
CALSCALE:GREGORIAN
METHOD:PUBLISH
X-WR-CALNAME:Cable Beach Primary
X-ORIGINAL-URL:https://cablebeachps.wa.edu.au
X-WR-CALDESC:Events for Cable Beach Primary
REFRESH-INTERVAL;VALUE=DURATION:PT1H
X-Robots-Tag:noindex
X-PUBLISHED-TTL:PT1H
BEGIN:VTIMEZONE
TZID:Australia/Perth
BEGIN:STANDARD
TZOFFSETFROM:+0800
TZOFFSETTO:+0800
TZNAME:AWST
DTSTART:20250101T000000
END:STANDARD
END:VTIMEZONE
BEGIN:VEVENT
DTSTART;TZID=Australia/Perth:20260403T080000
DTEND;TZID=Australia/Perth:20260419T170000
DTSTAMP:20260419T212734
CREATED:20260227T035423Z
LAST-MODIFIED:20260227T035423Z
UID:4009-1775203200-1776618000@cablebeachps.wa.edu.au
SUMMARY:School Holidays Friday 3 April to Sunday 19 April
DESCRIPTION:
URL:https://cablebeachps.wa.edu.au/calendar/school-holidays-friday-3-april-to-sunday-19-april/
END:VEVENT
BEGIN:VEVENT
DTSTART;VALUE=DATE:20260420
DTEND;VALUE=DATE:20260421
DTSTAMP:20260419T212734
CREATED:20260227T035700Z
LAST-MODIFIED:20260227T035700Z
UID:4011-1776643200-1776729599@cablebeachps.wa.edu.au
SUMMARY:First Day Term 2
DESCRIPTION:
URL:https://cablebeachps.wa.edu.au/calendar/first-day-term-2/
END:VEVENT
BEGIN:VEVENT
DTSTART;VALUE=DATE:20260420
DTEND;VALUE=DATE:20260425
DTSTAMP:20260419T212734
CREATED:20260318T061323Z
LAST-MODIFIED:20260318T061323Z
UID:4084-1776643200-1777075199@cablebeachps.wa.edu.au
SUMMARY:Term 2 Week 1
DESCRIPTION:
URL:https://cablebeachps.wa.edu.au/calendar/term-2-week-1-2/
CATEGORIES:Weeks
END:VEVENT
BEGIN:VEVENT
DTSTART;VALUE=DATE:20260424
DTEND;VALUE=DATE:20260425
DTSTAMP:20260419T212734
CREATED:20260227T035738Z
LAST-MODIFIED:20260227T035738Z
UID:4013-1776988800-1777075199@cablebeachps.wa.edu.au
SUMMARY:ANZAC Assembly
DESCRIPTION:
URL:https://cablebeachps.wa.edu.au/calendar/anzac-assembly-2/
END:VEVENT
BEGIN:VEVENT
DTSTART;VALUE=DATE:20260427
DTEND;VALUE=DATE:20260428
DTSTAMP:20260419T212734
CREATED:20260227T035849Z
LAST-MODIFIED:20260227T035849Z
UID:4015-1777248000-1777334399@cablebeachps.wa.edu.au
SUMMARY:ANZAC Day Public Holiday - No School
DESCRIPTION:
URL:https://cablebeachps.wa.edu.au/calendar/anzac-day-public-holiday-no-school/
END:VEVENT
BEGIN:VEVENT
DTSTART;VALUE=DATE:20260427
DTEND;VALUE=DATE:20260502
DTSTAMP:20260419T212734
CREATED:20260319T040659Z
LAST-MODIFIED:20260319T040659Z
UID:4086-1777248000-1777679999@cablebeachps.wa.edu.au
SUMMARY:Term 2 Week 2
DESCRIPTION:
URL:https://cablebeachps.wa.edu.au/calendar/term-2-week-2-2/
CATEGORIES:Weeks
END:VEVENT
BEGIN:VEVENT
DTSTART;VALUE=DATE:20260428
DTEND;VALUE=DATE:20260429
DTSTAMP:20260419T212734
CREATED:20260227T035936Z
LAST-MODIFIED:20260319T041019Z
UID:4017-1777334400-1777420799@cablebeachps.wa.edu.au
SUMMARY:No Students-School Development Day
DESCRIPTION:
URL:https://cablebeachps.wa.edu.au/calendar/school-development-day-no-students-6/
END:VEVENT
END:VCALENDAR